BEGIN:VCALENDAR
VERSION:2.0
PRODID:-//Ambience - ECPv6.15.20//NONSGML v1.0//EN
CALSCALE:GREGORIAN
METHOD:PUBLISH
X-WR-CALNAME:Ambience
X-ORIGINAL-URL:https://ambiencejazz.com
X-WR-CALDESC:Events for Ambience
REFRESH-INTERVAL;VALUE=DURATION:PT1H
X-Robots-Tag:noindex
X-PUBLISHED-TTL:PT1H
BEGIN:VTIMEZONE
TZID:America/Los_Angeles
BEGIN:DAYLIGHT
TZOFFSETFROM:-0800
TZOFFSETTO:-0700
TZNAME:PDT
DTSTART:20220313T100000
END:DAYLIGHT
BEGIN:STANDARD
TZOFFSETFROM:-0700
TZOFFSETTO:-0800
TZNAME:PST
DTSTART:20221106T090000
END:STANDARD
BEGIN:DAYLIGHT
TZOFFSETFROM:-0800
TZOFFSETTO:-0700
TZNAME:PDT
DTSTART:20230312T100000
END:DAYLIGHT
BEGIN:STANDARD
TZOFFSETFROM:-0700
TZOFFSETTO:-0800
TZNAME:PST
DTSTART:20231105T090000
END:STANDARD
BEGIN:DAYLIGHT
TZOFFSETFROM:-0800
TZOFFSETTO:-0700
TZNAME:PDT
DTSTART:20240310T100000
END:DAYLIGHT
BEGIN:STANDARD
TZOFFSETFROM:-0700
TZOFFSETTO:-0800
TZNAME:PST
DTSTART:20241103T090000
END:STANDARD
BEGIN:DAYLIGHT
TZOFFSETFROM:-0800
TZOFFSETTO:-0700
TZNAME:PDT
DTSTART:20250309T100000
END:DAYLIGHT
BEGIN:STANDARD
TZOFFSETFROM:-0700
TZOFFSETTO:-0800
TZNAME:PST
DTSTART:20251102T090000
END:STANDARD
END:VTIMEZONE
BEGIN:VEVENT
DTSTART;TZID=America/Los_Angeles:20240601T180000
DTEND;TZID=America/Los_Angeles:20240601T200000
DTSTAMP:20260420T194918
CREATED:20240417T153421Z
LAST-MODIFIED:20240418T200508Z
UID:10000022-1717264800-1717272000@ambiencejazz.com
SUMMARY:The Sanctuary
DESCRIPTION:Private Event
URL:https://ambiencejazz.com/events/the-sanctuary/
LOCATION:Seattle\,\, WA
END:VEVENT
BEGIN:VEVENT
DTSTART;TZID=America/Los_Angeles:20240518T180000
DTEND;TZID=America/Los_Angeles:20240518T200000
DTSTAMP:20260420T194918
CREATED:20240410T054112Z
LAST-MODIFIED:20240424T154149Z
UID:10000003-1716055200-1716062400@ambiencejazz.com
SUMMARY:Miller's
DESCRIPTION:Private Event
URL:https://ambiencejazz.com/events/millers/
LOCATION:Carnation\,\, WA
END:VEVENT
BEGIN:VEVENT
DTSTART;VALUE=DATE:20240512
DTEND;VALUE=DATE:20240513
DTSTAMP:20260420T194918
CREATED:20240410T051750Z
LAST-MODIFIED:20240418T200508Z
UID:10000001-1715472000-1715558399@ambiencejazz.com
SUMMARY:Shinkaichi Music Street Festival
DESCRIPTION:Time TBD
URL:https://ambiencejazz.com/events/time-tbd-shinkaichi-music-street-festival/
LOCATION:Main Stage Kobe\, Japan
END:VEVENT
BEGIN:VEVENT
DTSTART;TZID=America/Los_Angeles:20231209T180000
DTEND;TZID=America/Los_Angeles:20231209T220000
DTSTAMP:20260420T194918
CREATED:20240418T200509Z
LAST-MODIFIED:20241213T173418Z
UID:10000009-1702144800-1702159200@ambiencejazz.com
SUMMARY:Arctic Club - Dome Room
DESCRIPTION:Hansel Phelps Private Holiday Party
URL:https://ambiencejazz.com/events/hansel-phelps-private-holiday-party/
LOCATION:Arctic Club\, Seattle\, WA
END:VEVENT
BEGIN:VEVENT
DTSTART;TZID=America/Los_Angeles:20231208T190000
DTEND;TZID=America/Los_Angeles:20231208T210000
DTSTAMP:20260420T194918
CREATED:20240418T200509Z
LAST-MODIFIED:20241213T173207Z
UID:10000010-1702062000-1702069200@ambiencejazz.com
SUMMARY:Burke Museum
DESCRIPTION:KTCS 9   Holiday Party
URL:https://ambiencejazz.com/events/hansel-phelps-private-holiday-party-2/
LOCATION:Seattle\, WA
END:VEVENT
BEGIN:VEVENT
DTSTART;TZID=America/Los_Angeles:20231207T080000
DTEND;TZID=America/Los_Angeles:20231207T170000
DTSTAMP:20260420T194918
CREATED:20240418T200509Z
LAST-MODIFIED:20241213T173310Z
UID:10000011-1701936000-1701968400@ambiencejazz.com
SUMMARY:Skansonia
DESCRIPTION:Esper Company Holiday Party
URL:https://ambiencejazz.com/events/hansel-phelps-private-holiday-party-3/
LOCATION:Skansonia\, Seattle\, WA
END:VEVENT
BEGIN:VEVENT
DTSTART;TZID=America/Los_Angeles:20231201T080000
DTEND;TZID=America/Los_Angeles:20231201T170000
DTSTAMP:20260420T194918
CREATED:20240418T200509Z
LAST-MODIFIED:20240423T155654Z
UID:10000012-1701417600-1701450000@ambiencejazz.com
SUMMARY:SeaTac Holiday Tree Lighting
DESCRIPTION:
URL:https://ambiencejazz.com/events/seatac-holiday-tree-lighting-for-all-ages-there-is-no-cover/
LOCATION:SEATAC COMMUNITY CENTER 13735 24th Ave S SeaTac WA 98168\, WA
END:VEVENT
BEGIN:VEVENT
DTSTART;TZID=America/Los_Angeles:20231114T173000
DTEND;TZID=America/Los_Angeles:20231114T193000
DTSTAMP:20260420T194918
CREATED:20240418T200509Z
LAST-MODIFIED:20240418T200509Z
UID:10000013-1699983000-1699990200@ambiencejazz.com
SUMMARY:Private Microsoft Event
DESCRIPTION:
URL:https://ambiencejazz.com/events/private-microsoft-event/
LOCATION:Fairmont Olympic Hotel\, Seattle\, WA
END:VEVENT
BEGIN:VEVENT
DTSTART;TZID=America/Los_Angeles:20231017T170000
DTEND;TZID=America/Los_Angeles:20231017T170000
DTSTAMP:20260420T194918
CREATED:20240418T200510Z
LAST-MODIFIED:20240418T200510Z
UID:10000014-1697562000-1697562000@ambiencejazz.com
SUMMARY:Private Microsoft Event
DESCRIPTION:
URL:https://ambiencejazz.com/events/private-microsoft-event-2/
LOCATION:Westin Grand Ballroom\, Bellevue\, Bellevue\, WA
END:VEVENT
BEGIN:VEVENT
DTSTART;TZID=America/Los_Angeles:20231007T180000
DTEND;TZID=America/Los_Angeles:20231007T220000
DTSTAMP:20260420T194918
CREATED:20240418T200510Z
LAST-MODIFIED:20240418T200510Z
UID:10000015-1696701600-1696716000@ambiencejazz.com
SUMMARY:Private Wedding
DESCRIPTION:
URL:https://ambiencejazz.com/events/private-wedding/
LOCATION:Pioneer Park Pavilion\, Puyallup\, WA
END:VEVENT
BEGIN:VEVENT
DTSTART;TZID=America/Los_Angeles:20230930T173000
DTEND;TZID=America/Los_Angeles:20230930T213000
DTSTAMP:20260420T194918
CREATED:20240418T200510Z
LAST-MODIFIED:20240418T200510Z
UID:10000016-1696095000-1696109400@ambiencejazz.com
SUMMARY:Private Wedding Party
DESCRIPTION:
URL:https://ambiencejazz.com/events/private-wedding-party/
LOCATION:Bothell\,\, WA
END:VEVENT
BEGIN:VEVENT
DTSTART;TZID=America/Los_Angeles:20230909T173000
DTEND;TZID=America/Los_Angeles:20230909T203000
DTSTAMP:20260420T194918
CREATED:20240418T200510Z
LAST-MODIFIED:20240418T200510Z
UID:10000017-1694280600-1694291400@ambiencejazz.com
SUMMARY:Private Event
DESCRIPTION:
URL:https://ambiencejazz.com/events/private-event/
LOCATION:Seattle\,\, WA
END:VEVENT
BEGIN:VEVENT
DTSTART;TZID=America/Los_Angeles:20230812T163000
DTEND;TZID=America/Los_Angeles:20230812T193000
DTSTAMP:20260420T194918
CREATED:20240418T200510Z
LAST-MODIFIED:20240418T200510Z
UID:10000018-1691857800-1691868600@ambiencejazz.com
SUMMARY:Private Wedding Party
DESCRIPTION:
URL:https://ambiencejazz.com/events/private-wedding-party-2/
LOCATION:Seattle\,\, WA
END:VEVENT
BEGIN:VEVENT
DTSTART;VALUE=DATE:20230610
DTEND;VALUE=DATE:20230611
DTSTAMP:20260420T194918
CREATED:20240418T200511Z
LAST-MODIFIED:20240418T200511Z
UID:10000019-1686355200-1686441599@ambiencejazz.com
SUMMARY:BIMA Bash Live Auction
DESCRIPTION:
URL:https://ambiencejazz.com/events/bima-bash-live-auction/
LOCATION:Bainbridge Island Museum of Art\, WA
END:VEVENT
BEGIN:VEVENT
DTSTART;TZID=America/Los_Angeles:20230514T163000
DTEND;TZID=America/Los_Angeles:20230514T170000
DTSTAMP:20260420T194918
CREATED:20240418T200511Z
LAST-MODIFIED:20240418T200511Z
UID:10000020-1684081800-1684083600@ambiencejazz.com
SUMMARY:Shinkaichi Music Street
DESCRIPTION:
URL:https://ambiencejazz.com/events/shinkaichi-music-street/
LOCATION:Ward Office 2nd Floor Hall “Minatogawa Hall” in Minatogawa Park Kobe\, Japan
END:VEVENT
END:VCALENDAR