BEGIN:VCALENDAR
VERSION:2.0
PRODID:-//Ambience - ECPv6.15.20//NONSGML v1.0//EN
CALSCALE:GREGORIAN
METHOD:PUBLISH
X-WR-CALNAME:Ambience
X-ORIGINAL-URL:https://ambiencejazz.com
X-WR-CALDESC:Events for Ambience
REFRESH-INTERVAL;VALUE=DURATION:PT1H
X-Robots-Tag:noindex
X-PUBLISHED-TTL:PT1H
BEGIN:VTIMEZONE
TZID:America/Los_Angeles
BEGIN:DAYLIGHT
TZOFFSETFROM:-0800
TZOFFSETTO:-0700
TZNAME:PDT
DTSTART:20250309T100000
END:DAYLIGHT
BEGIN:STANDARD
TZOFFSETFROM:-0700
TZOFFSETTO:-0800
TZNAME:PST
DTSTART:20251102T090000
END:STANDARD
BEGIN:DAYLIGHT
TZOFFSETFROM:-0800
TZOFFSETTO:-0700
TZNAME:PDT
DTSTART:20260308T100000
END:DAYLIGHT
BEGIN:STANDARD
TZOFFSETFROM:-0700
TZOFFSETTO:-0800
TZNAME:PST
DTSTART:20261101T090000
END:STANDARD
BEGIN:DAYLIGHT
TZOFFSETFROM:-0800
TZOFFSETTO:-0700
TZNAME:PDT
DTSTART:20270314T100000
END:DAYLIGHT
BEGIN:STANDARD
TZOFFSETFROM:-0700
TZOFFSETTO:-0800
TZNAME:PST
DTSTART:20271107T090000
END:STANDARD
END:VTIMEZONE
BEGIN:VEVENT
DTSTART;TZID=America/Los_Angeles:20260829T170000
DTEND;TZID=America/Los_Angeles:20260829T190000
DTSTAMP:20260420T212334
CREATED:20260204T213253Z
LAST-MODIFIED:20260204T214214Z
UID:10000060-1788022800-1788030000@ambiencejazz.com
SUMMARY:Woodin Creek Village
DESCRIPTION:Summer Concert Series.  Outdoor concert.  Open to Public.  Free Admission.  Some seating available\, or bring your own seating.
URL:https://ambiencejazz.com/events/woodin-creek-village-2/
LOCATION:Woodin Creek Village\, 17255 135th Ave NE\, Woodinville\, 98072\, United States
END:VEVENT
END:VCALENDAR